BEGIN:VCALENDAR
VERSION:2.0
PRODID:-//ChamberMaster//Event Calendar 2.0//EN
METHOD:PUBLISH
X-PUBLISHED-TTL:P3D
REFRESH-INTERVAL:P3D
CALSCALE:GREGORIAN
BEGIN:VEVENT
DTSTART:20230822T210000Z
DTEND:20230822T220000Z
X-MICROSOFT-CDO-ALLDAYEVENT:FALSE
SUMMARY:B2B & GHWCC ORIENTATION
DESCRIPTION:
X-ALT-DESC;FMTTYPE=text/html:
LOCATION:Mia's Table 3131 Argonne St. Houston\, TX 77098
UID:e.1513.11127
SEQUENCE:3
DTSTAMP:20260421T181320Z
URL:https://business.ghwcc.org/events/details/b2b-ghwcc-orientation-08-22-2023-11127
END:VEVENT

END:VCALENDAR
