BEGIN:VCALENDAR
VERSION:2.0
PRODID:-//ChamberMaster//Event Calendar 2.0//EN
METHOD:PUBLISH
X-PUBLISHED-TTL:P3D
REFRESH-INTERVAL:P3D
CALSCALE:GREGORIAN
BEGIN:VEVENT
DTSTART:20201124T220000Z
DTEND:20201124T230000Z
X-MICROSOFT-CDO-ALLDAYEVENT:FALSE
SUMMARY:B2B & GHWCC Orientation
DESCRIPTION:Join us for an incredible networking opportunity to meet other business leaders and GHWCC members. Our B2B Membership Orientation offers a place to build and enhance valued business to business relationships\, while supporting women and girls through the GHWCC's program of work. Learn about Committees\, Workshops\, Education\, Volunteer Opportunities\, Events\, Initiatives\, Advocacy and more.
X-ALT-DESC;FMTTYPE=text/html:<span style="font-size:14px\;"><span style="text-align: center\;">Join us for an incredible networking opportunity to meet other business leaders and&nbsp\;GHWCC&nbsp\;members. Our B2B Membership Orientation offers a place to build and enhance valued business to business relationships\, while supporting women and girls through the&nbsp\;GHWCC&#39\;s program of work. Learn about Committees\, Workshops\, Education\, Volunteer Opportunities\, Events\, Initiatives\, Advocacy and more.</span><br style="text-align: center\;" />\n<span style="text-align: center\;">&nbsp\;</span></span><br style="text-align: center\;" />\n&nbsp\;
LOCATION:
UID:e.1513.8526
SEQUENCE:3
DTSTAMP:20260422T085341Z
URL:https://business.ghwcc.org/events/details/b2b-ghwcc-orientation-11-24-2020-8526
END:VEVENT

END:VCALENDAR
