BEGIN:VCALENDAR
VERSION:2.0
PRODID:-//ChamberMaster//Event Calendar 2.0//EN
METHOD:PUBLISH
X-PUBLISHED-TTL:P3D
REFRESH-INTERVAL:P3D
CALSCALE:GREGORIAN
BEGIN:VEVENT
DTSTART:20171128T220000Z
DTEND:20171128T230000Z
X-MICROSOFT-CDO-ALLDAYEVENT:FALSE
SUMMARY:B2B & GHWCC Orientation
DESCRIPTION:Join us for an incredible networking opportunity to meet other business leaders and GHWCC members. Our B2B Membership Orientation offers a place to build and enhance valued business to business relationships\, while supporting women and girls through the GHWCC?s program of work. Learn about Committees\, Workshops\, Education\, Volunteer Opportunities\, Events\, Initiatives\, Advocacy and more.\n\n \n\n\n\nBring a guest! This event is open to members and \n\nnon-members and there is no charge to attend.
X-ALT-DESC;FMTTYPE=text/html:<span style="color: rgb(51\, 51\, 51)\; font-family: sans-serif\, Arial\, Verdana\, &quot\;Trebuchet MS&quot\;\; text-align: center\; font-size: 16px\;">Join us for an incredible networking opportunity to meet other business leaders and&nbsp\;GHWCC&nbsp\;members. Our B2B Membership Orientation offers a place to build and enhance valued business to business relationships\, while supporting women and girls through the&nbsp\;GHWCC?s program of work. Learn about Committees\, Workshops\, Education\, Volunteer Opportunities\, Events\, Initiatives\, Advocacy and more.</span><br style="color: rgb(51\, 51\, 51)\; font-family: sans-serif\, Arial\, Verdana\, &quot\;Trebuchet MS&quot\;\; font-size: 13px\; text-align: center\;" />\n<span style="color: rgb(51\, 51\, 51)\; font-family: sans-serif\, Arial\, Verdana\, &quot\;Trebuchet MS&quot\;\; font-size: 13px\; text-align: center\;">&nbsp\;</span><br style="color: rgb(51\, 51\, 51)\; font-family: sans-serif\, Arial\, Verdana\, &quot\;Trebuchet MS&quot\;\; font-size: 13px\; text-align: center\;" />\n<br style="color: rgb(51\, 51\, 51)\; font-family: sans-serif\, Arial\, Verdana\, &quot\;Trebuchet MS&quot\;\; font-size: 13px\; text-align: center\;" />\n<span style="color: rgb(51\, 51\, 51)\; font-family: sans-serif\, Arial\, Verdana\, &quot\;Trebuchet MS&quot\;\; text-align: center\; font-size: 16px\;"><em><strong>Bring a guest!</strong>&nbsp\;This event is open to members and&nbsp\;<br />\nnon-members and there is no charge to attend.</em></span>
LOCATION:GHWCC Office 3201 Kirby Dr.\, Ste. 400 Houston\, TX 77098
UID:e.1513.4374
SEQUENCE:3
DTSTAMP:20260419T202934Z
URL:https://business.ghwcc.org/events/details/b2b-ghwcc-orientation-11-28-2017-4374
END:VEVENT

END:VCALENDAR
