BEGIN:VCALENDAR
VERSION:2.0
PRODID:-//ChamberMaster//Event Calendar 2.0//EN
METHOD:PUBLISH
X-PUBLISHED-TTL:P3D
REFRESH-INTERVAL:P3D
CALSCALE:GREGORIAN
BEGIN:VEVENT
DTSTART:20201027T210000Z
DTEND:20201027T220000Z
X-MICROSOFT-CDO-ALLDAYEVENT:FALSE
SUMMARY:B2B WITH THE GHWCC!
DESCRIPTION:People want to do business with people they know and trust.  The GHWCC is the perfect platform to develop and enhance your business relationships. \n\n \n\nJoin us for our next B2B\, limited to the first 25 members\, so sign up today! \n\n\n\nOur B2B Membership Orientation offers a place to build and enhance valued business to business relationships\, while supporting women and girls through the GHWCC's program of work. Learn about Committees\, Workshops\, Education\, Volunteer Opportunities\, Events\, Initiatives\, Advocacy and more.
X-ALT-DESC;FMTTYPE=text/html:<span style="font-size:14px\;"><span style="font-family:arial\;">People want to do business with people they know and trust.&nbsp\; The GHWCC is the perfect platform to develop and enhance your business relationships.&nbsp\;<br />\n&nbsp\;<br />\nJoin us for our next B2B\, limited to the first 25 members\, so sign up today!&nbsp\;<br />\n<br />\n<span style="text-align: center\;">Our B2B Membership Orientation offers a place to build and enhance valued business to business relationships\, while supporting women and girls through the&nbsp\;GHWCC&#39\;s program of work. Learn about Committees\, Workshops\, Education\, Volunteer Opportunities\, Events\, Initiatives\, Advocacy and more.</span><br style="text-align: center\;" />\n<span style="text-align: center\;">&nbsp\;</span></span></span><br style="text-align: center\;" />\n&nbsp\;
LOCATION:
UID:e.1513.7638
SEQUENCE:3
DTSTAMP:20260422T061402Z
URL:https://business.ghwcc.org/events/details/b2b-with-the-ghwcc-10-27-2020-7638
END:VEVENT

END:VCALENDAR
