BEGIN:VCALENDAR
VERSION:2.0
PRODID:-//ChamberMaster//Event Calendar 2.0//EN
METHOD:PUBLISH
X-PUBLISHED-TTL:P3D
REFRESH-INTERVAL:P3D
CALSCALE:GREGORIAN
BEGIN:VEVENT
DTSTART:20220505T193000Z
DTEND:20220505T203000Z
X-MICROSOFT-CDO-ALLDAYEVENT:FALSE
SUMMARY:Breakout - Together We Rise
DESCRIPTION:Together We Rise Sponsored by Airswift & Burnett Specialists\n\n\n\nJoin five of the authors of Together We Rise as they share their inspiring stories that recount pivotal moments in their lives\, including struggles to rise up and stand out in an industry with too few women at its highest ranks.  The book exemplifies the power of women supporting women. It is the brainchild of an informal group of staffing industry leaders who came together during the pandemic and formed The Lady Leaders Book Club. They were united by a shared passion to lift other women up and fueled by the undercurrent of the unknown at the start of the COVID-19 pandemic. In coming together\, they found ways to guide and support each other as they all navigated their new normal.\n\n\n\nSue Burnett\n\nPresident and Founder\n\nBurnett Specialists\n\n\n\nJanette Marx\n\nCEO\n\nAirswift
X-ALT-DESC;FMTTYPE=text/html:<p>Together We Rise Sponsored by Airswift &amp\; Burnett Specialists<br />\n<br />\nJoin five of the authors of Together We Rise as they share their inspiring stories that recount pivotal moments in their lives\, including struggles to rise up and stand out in an industry with too few women at its highest ranks.&nbsp\; The book&nbsp\;exemplifies the power of women supporting women. It is the brainchild of an informal group of staffing industry leaders who came together during the pandemic and formed The Lady Leaders Book Club. They were united by a shared passion to lift other women up and fueled by the undercurrent of the unknown at the start of the COVID-19 pandemic. In coming together\, they found ways to guide and support each other as they all navigated their new normal.<br />\n<br />\n<strong>Sue Burnett</strong><br />\nPresident and Founder<br />\nBurnett Specialists<br />\n<br />\n<strong>Janette Marx</strong><br />\nCEO<br />\nAirswift</p>\n
LOCATION:The Westin Galleria Hotel Breakout Rooms at the Conference for Women
UID:e.1513.10676
SEQUENCE:3
DTSTAMP:20260421T101709Z
URL:https://business.ghwcc.org/events/details/breakout-together-we-rise-10676
END:VEVENT

END:VCALENDAR
