BEGIN:VCALENDAR
VERSION:2.0
PRODID:-//ChamberMaster//Event Calendar 2.0//EN
METHOD:PUBLISH
X-PUBLISHED-TTL:P3D
REFRESH-INTERVAL:P3D
CALSCALE:GREGORIAN
BEGIN:VEVENT
DTSTART;VALUE=DATE:20171004
DTEND;VALUE=DATE:20171005
TRANSP:TRANSPARENT
X-MICROSOFT-CDO-ALLDAYEVENT:TRUE
SUMMARY:Hurricane Harvey Donations
DESCRIPTION:We are helping some of the most vulnerable victims of Hurricane Harvey's wrath\, single moms.  We felt as a chamber we should do something to support a number of deserving single moms who need to get back to work and back to some sense of normalcy in their lives.   \n\n \n\nWe hope you will join us in making "our single moms" life a little brighter.\n\n \n\nAny amount is appreciated.
X-ALT-DESC;FMTTYPE=text/html:<span style="color:#002F5F\;"><span style="font-family:calibri\,sans-serif\;"><span style="font-size:14.0pt\;">We are helping some of the most vulnerable victims of Hurricane Harvey&rsquo\;s wrath\, single moms.&nbsp\; We felt as a chamber we should do something to support a number of deserving single moms who need to get back to work and back to some sense of normalcy in their lives. &nbsp\;&nbsp\;</span></span></span><br />\n&nbsp\;<br />\n<span style="color:#002F5F\;"><span style="font-family:calibri\,sans-serif\;"><span style="font-size:14.0pt\;">We hope you will join us in making &ldquo\;our single moms&rdquo\; life a little brighter.</span></span></span><br />\n&nbsp\;<br />\n<span style="color:#002F5F\;"><span style="font-family:calibri\,sans-serif\;"><span style="font-size:14.0pt\;">Any amount is appreciated.</span></span></span>
LOCATION:
UID:e.1513.3229
SEQUENCE:3
DTSTAMP:20260423T051217Z
URL:https://business.ghwcc.org/events/details/hurricane-harvey-donations-10-04-2017-3229
END:VEVENT

END:VCALENDAR
