BEGIN:VCALENDAR
VERSION:2.0
PRODID:-//ChamberMaster//Event Calendar 2.0//EN
METHOD:PUBLISH
X-PUBLISHED-TTL:P3D
REFRESH-INTERVAL:P3D
CALSCALE:GREGORIAN
BEGIN:VEVENT
DTSTART:20210119T200000Z
DTEND:20210119T210000Z
X-MICROSOFT-CDO-ALLDAYEVENT:FALSE
SUMMARY:LAUNCH WORKSHOP - OBO Pre Certification Workshop
DESCRIPTION:Pre-Certification Workshop ( S/MWBE and DBE)\n\n\n\n\nWhenTue\, January 19\, 2021\, 2pm   4pm\n\nDescription\n\nWhere:  Virtual Pre-Certification Workshops (via webinar\; will allow for Q&A)\n\nPre-Certification Workshop addresses certification requirements\, procedures and provides business owners with information on how to do business with the City of Houston.\n\nThe Office of Business Opportunity (OBO) values the health and well-being of our staff and everyone who walks through our doors. In an abundance of caution and given the rise in COVID-19 cases in the Greater Houston area\, the OBO is suspending all in-person visits until further notice.
X-ALT-DESC;FMTTYPE=text/html:<div>&nbsp\;</div>\n\n<div>\n<div class="event-summary-expanded" id="104-20210119" style="white-space: nowrap\; margin: 0.3em 1em\; font-weight: bold\; font-family: Arial\, sans-serif\; font-size: small\; background-color: rgb(255\, 255\, 255)\;">\n<div class="title-wrapper" style="margin: 0px 0px 0px 3.5em\; padding: 0px\;"><span class="event-title" style="display: block\; clear: none\; margin: 0px\; overflow: hidden\; color: rgb(24\, 44\, 87)\;">Pre-Certification Workshop ( S/MWBE and DBE)</span></div>\n</div>\n\n<div class="event-details" id="details-104-20210119" style="float: none\; clear: both\; cursor: default\; padding: 0px\; margin: 0.3em 1em\; font-family: Arial\, sans-serif\; font-size: small\; background-color: rgb(255\, 255\, 255)\;">\n<div class="event-details-inner" style="padding: 0px 0px 0.3em\;">\n<div class="detail-item" style="padding: 3px 0px\; margin: 0px\;"><span class="event-details-label" style="display: block\; clear: left\; float: left\; font-size: 13px\; font-weight: bold\; margin: 0px\; width: 7em\; color: rgb(78\, 78\, 78)\;">When</span><span class="event-when" style="display: block\; margin-left: 7em\;">Tue\, January 19\, 2021\, 2pm &ndash\; 4pm</span></div>\n\n<div class="detail-item" style="padding: 3px 0px\; margin: 0px\;"><span class="event-details-label" style="display: block\; clear: left\; float: left\; font-size: 13px\; font-weight: bold\; margin: 0px\; width: 7em\; color: rgb(78\, 78\, 78)\;">Description</span>\n\n<p><span class="event-description" style="display: block\; margin-left: 7em\; white-space: pre-wrap\;">Where: &nbsp\;<b>Virtual Pre-Certificati<wbr />on Workshops (via webinar\; will allow for Q&amp\;A)</b></span></p>\n\n<p><span class="event-description" style="display: block\; margin-left: 7em\; white-space: pre-wrap\;">Pre-Certifi<wbr />cation Workshop addresses certification requirements\, procedures and provides business owners with information on how to do business with the City of Houston.</span></p>\n\n<p><span class="event-description" style="display: block\; margin-left: 7em\; white-space: pre-wrap\;">The Office of Business Opportunity (OBO) values the health and well-being of our staff and everyone who walks through our doors. In an abundance of caution and given the rise in COVID-19 cases in the Greater Houston area\, the OBO is suspending all in-person visits until further notice.</span></p>\n\n<p>&nbsp\;</p>\n</div>\n</div>\n</div>\n</div>\n
LOCATION:
UID:e.1513.8898
SEQUENCE:3
DTSTAMP:20260422T104115Z
URL:https://business.ghwcc.org/events/details/launch-workshop-obo-pre-certification-workshop-01-19-2021-8898
END:VEVENT

END:VCALENDAR
