BEGIN:VCALENDAR
VERSION:2.0
PRODID:-//ChamberMaster//Event Calendar 2.0//EN
METHOD:PUBLISH
X-PUBLISHED-TTL:P3D
REFRESH-INTERVAL:P3D
CALSCALE:GREGORIAN
BEGIN:VEVENT
DTSTART:20260520T210000Z
DTEND:20260520T220000Z
X-MICROSOFT-CDO-ALLDAYEVENT:FALSE
SUMMARY:Ribbon Cutting at Collins Lobby Bar
DESCRIPTION:Celebrate the Opening of Collins Lobby Bar
X-ALT-DESC;FMTTYPE=text/html:Celebrate the Opening of Collins Lobby Bar
LOCATION:Collins Lobby Bar 2025 Post Oak Blvd Suite A Housotn\, TX 77056
UID:e.1513.11869
SEQUENCE:3
DTSTAMP:20260425T003932Z
URL:https://business.ghwcc.org/events/details/ribbon-cutting-at-collins-lobby-bar-11869
END:VEVENT

END:VCALENDAR
