BEGIN:VCALENDAR
VERSION:2.0
PRODID:-//ChamberMaster//Event Calendar 2.0//EN
METHOD:PUBLISH
X-PUBLISHED-TTL:P3D
REFRESH-INTERVAL:P3D
CALSCALE:GREGORIAN
BEGIN:VEVENT
DTSTART:20260501T160000Z
DTEND:20260501T170000Z
X-MICROSOFT-CDO-ALLDAYEVENT:FALSE
SUMMARY:Ribbon Cutting at Empathica Spring Care Clinic
DESCRIPTION:Celebrate the opening of Empathica Spring Care Clinic.\n\nMeet Elizabeth Condit\, Nurse Practitioner\n\nBring a friend\, tour the Clinic\, ask questions.\n\nDoor prizes and giveaways.\n\nRefreshments provided.
X-ALT-DESC;FMTTYPE=text/html:Celebrate the opening of Empathica Spring Care Clinic.<br />\nMeet Elizabeth Condit\, Nurse Practitioner<br />\nBring a friend\, tour the Clinic\, ask questions.<br />\nDoor prizes and giveaways.<br />\nRefreshments provided.
LOCATION:The Empathica Spring Care Clinic 18930 Kuykendahl Rd\, STE C Spring\, Texas
UID:e.1513.11868
SEQUENCE:3
DTSTAMP:20260424T231633Z
URL:https://business.ghwcc.org/events/details/ribbon-cutting-at-empathica-spring-care-clinic-11868
END:VEVENT

END:VCALENDAR
