BEGIN:VCALENDAR
VERSION:2.0
PRODID:-//ChamberMaster//Event Calendar 2.0//EN
METHOD:PUBLISH
X-PUBLISHED-TTL:P3D
REFRESH-INTERVAL:P3D
CALSCALE:GREGORIAN
BEGIN:VEVENT
DTSTART:20170822T170000Z
DTEND:20170822T180000Z
X-MICROSOFT-CDO-ALLDAYEVENT:FALSE
SUMMARY:SHRINK Studios Ribbon Cutting
DESCRIPTION:Please help support the Chamber's newest member!
X-ALT-DESC;FMTTYPE=text/html:<span style="font-size:12px\;"><span style="color: rgb(0\, 0\, 0)\; font-family: Arial\, Helvetica\, &quot\;MS Sans Serif&quot\;\, sans-serif\;">Please help support the Chamber&#39\;s newest member!</span></span>
LOCATION:4126 Southwest Fwy Suite 600E (59 between Weslayan & New Castle) Houston TX 77027
UID:e.1513.3224
SEQUENCE:3
DTSTAMP:20260425T175846Z
URL:https://business.ghwcc.org/events/details/shrink-studios-ribbon-cutting-08-22-2017-3224
END:VEVENT

END:VCALENDAR
