BEGIN:VCALENDAR
VERSION:2.0
PRODID:-//ChamberMaster//Event Calendar 2.0//EN
METHOD:PUBLISH
X-PUBLISHED-TTL:P3D
REFRESH-INTERVAL:P3D
CALSCALE:GREGORIAN
BEGIN:VEVENT
DTSTART:20230519T200000Z
DTEND:20230519T210000Z
X-MICROSOFT-CDO-ALLDAYEVENT:FALSE
SUMMARY:The Power of Saying No: The New Science of How to Say No that Puts You in Charge of Your Life
DESCRIPTION:
X-ALT-DESC;FMTTYPE=text/html:
LOCATION:Westin Galleria Hotel Galleria Ballroom
UID:e.1513.11114
SEQUENCE:3
DTSTAMP:20260422T023856Z
URL:https://business.ghwcc.org/events/details/the-power-of-saying-no-the-new-science-of-how-to-say-no-that-puts-you-in-charge-of-your-life-11114
END:VEVENT

END:VCALENDAR
